Workbook

Sheet Anleitung
A1: Schließplan-Vorlage von Keyevolution
A3: So füllst du die Vorlage aus
A4: 1. Blatt "Schließplan": Objektdaten oben eintragen.
A5: 2. In Zeile 11 alle Türen benennen (Haupteingang, Büro, Zimmer 101 …).
A6: 3. Pro Zeile einen Schlüssel anlegen: Typ, Inhaber oder Bereich, Anzahl der Schlüssel.
A7: 4. Ein X setzen, wo der Schlüssel die Tür öffnen soll. Die Summen rechnen sich automatisch.
A8: 5. Blatt "Zylinderliste": Zylindertyp und Maße A und B je Tür eintragen. Weißt du die Maße nicht, messen wir bei der Besichtigung.
A9: 6. Datei an info@keyevolution.it oder per WhatsApp an +39 371 513 0911 schicken. Du bekommst ein Angebot.
A11: Begriffe
A12: GHS Generalhauptschlüssel: sperrt alle Türen der Anlage.
A13: HS Hauptschlüssel: sperrt alle Türen eines Bereichs.
A14: GS Gruppenschlüssel: sperrt mehrere Türen einer Gruppe.
... A20: Gelbe Felder sind zum Ausfüllen, graue Felder rechnen automatisch, grün markiert ist das Beispiel.

Sheet Schließplan
A1: Keyevolution · Schließplan
A2: Mit Sicherheit! Con Sicurezza! · St.-Margareth-Straße 7, 39040 Natz-Schabs · +39 371 513 0911 · info@keyevolution.it
A4: Objekt | F4: Anlagen-Nr. | H4: wird von Keyevolution vergeben
A5: Adresse | F5: Sicherungskarte-Nr. | H5: wird von Keyevolution vergeben
A6: Ansprechpartner
A7: Telefon / E-Mail
A8: Datum
A10: Tür-Nr. | E10: T01 | F10: T02 | G10: T03 | H10: T04 | I10: T05 | J10: T06 | K10: T07 | L10: T08 | M10: T09 | N10: T10 | O10: T11 | P10: T12 | Q10: T13 | R10: T14 | S10: T15 | T10: T16 | U10: T17 | V10: T18 | W10: T19 | X10: T20 | Y10: Türen
A11: Raum / Tür | E11: Haupteingang | F11: Büro | G11: Lager | Y11: je Schlüssel
A12: Nr. | B12: Typ | C12: Schlüssel / Inhaber | D12: Anzahl
A13: 1 | B13: GHS | C13: Beispiel: Generalhauptschlüssel Inhaber | D13: 2 | E13: X | F13: X | G13: X | Y13: =COUNTIF(E13:X13,"X") -> 3
A14: 2 | Y14: =COUNTIF(E14:X14,"X") -> 0
A15: 3 | Y15: =COUNTIF(E15:X15,"X") -> 0
A16: 4 | Y16: =COUNTIF(E16:X16,"X") -> 0
A17: 5 | Y17: =COUNTIF(E17:X17,"X") -> 0
A18: 6 | Y18: =COUNTIF(E18:X18,"X") -> 0
A19: 7 | Y19: =COUNTIF(E19:X19,"X") -> 0
A20: 8 | Y20: =COUNTIF(E20:X20,"X") -> 0
A21: 9 | Y21: =COUNTIF(E21:X21,"X") -> 0
A22: 10 | Y22: =COUNTIF(E22:X22,"X") -> 0
A23: 11 | Y23: =COUNTIF(E23:X23,"X") -> 0
A24: 12 | Y24: =COUNTIF(E24:X24,"X") -> 0
A25: 13 | Y25: =COUNTIF(E25:X25,"X") -> 0
... A42: 30 | Y42: =COUNTIF(E42:X42,"X") -> 0
C43: Schlüssel je Tür (Summe Anzahl) | D43: =SUM(D13:D42) -> 2 | E43: =SUMPRODUCT((E13:E42="X")*($D$13:$D$42)) -> 2 | F43: =SUMPRODUCT((F13:F42="X")*($D$13:$D$42)) -> 2 | G43: =SUMPRODUCT((G13:G42="X")*($D$13:$D$42)) -> 2 | H43: =SUMPRODUCT((H13:H42="X")*($D$13:$D$42)) -> 0 | I43: =SUMPRODUCT((I13:I42="X")*($D$13:$D$42)) -> 0 | J43: =SUMPRODUCT((J13:J42="X")*($D$13:$D$42)) -> 0 | K43: =SUMPRODUCT((K13:K42="X")*($D$13:$D$42)) -> 0 | L43: =SUMPRODUCT((L13:L42="X")*($D$13:$D$42)) -> 0 | ... X43: =SUMPRODUCT((X13:X42="X")*($D$13:$D$42)) -> 0
A45: Legende: gelbe Felder ausfüllen · X = Schlüssel sperrt diese Tür · grüne Zeile = Beispiel · graue Felder rechnen automatisch

Sheet Zylinderliste
A1: Zylinderliste
A2: Pro Tür ein Zylinder. Maß A = außen, Maß B = innen, jeweils von der Mitte der Befestigungsschraube bis zur Türkante bzw. Beschlagkante.
A4: Tür-Nr. | B4: Raum / Tür | C4: Zylindertyp | D4: Maß A außen (mm) | E4: Maß B innen (mm) | F4: Not- und Gefahrenfunktion | G4: Bemerkung
A5: =Schließplan!E10 -> T01 | B5: =IF(Schließplan!E11="","",Schließplan!E11) -> Haupteingang | C5: Doppelzylinder | D5: 30 | E5: 35 | F5: ja | G5: Beispiel, bitte überschreiben
A6: =Schließplan!F10 -> T02 | B6: =IF(Schließplan!F11="","",Schließplan!F11) -> Büro
A7: =Schließplan!G10 -> T03 | B7: =IF(Schließplan!G11="","",Schließplan!G11) -> Lager
A8: =Schließplan!H10 -> T04 | B8: =IF(Schließplan!H11="","",Schließplan!H11)
A9: =Schließplan!I10 -> T05 | B9: =IF(Schließplan!I11="","",Schließplan!I11)
A10: =Schließplan!J10 -> T06 | B10: =IF(Schließplan!J11="","",Schließplan!J11)
A11: =Schließplan!K10 -> T07 | B11: =IF(Schließplan!K11="","",Schließplan!K11)
A12: =Schließplan!L10 -> T08 | B12: =IF(Schließplan!L11="","",Schließplan!L11)
A13: =Schließplan!M10 -> T09 | B13: =IF(Schließplan!M11="","",Schließplan!M11)
A14: =Schließplan!N10 -> T10 | B14: =IF(Schließplan!N11="","",Schließplan!N11)
A15: =Schließplan!O10 -> T11 | B15: =IF(Schließplan!O11="","",Schließplan!O11)
A16: =Schließplan!P10 -> T12 | B16: =IF(Schließplan!P11="","",Schließplan!P11)
A17: =Schließplan!Q10 -> T13 | B17: =IF(Schließplan!Q11="","",Schließplan!Q11)
A18: =Schließplan!R10 -> T14 | B18: =IF(Schließplan!R11="","",Schließplan!R11)
A19: =Schließplan!S10 -> T15 | B19: =IF(Schließplan!S11="","",Schließplan!S11)
A20: =Schließplan!T10 -> T16 | B20: =IF(Schließplan!T11="","",Schließplan!T11)
A21: =Schließplan!U10 -> T17 | B21: =IF(Schließplan!U11="","",Schließplan!U11)
A22: =Schließplan!V10 -> T18 | B22: =IF(Schließplan!V11="","",Schließplan!V11)
A23: =Schließplan!W10 -> T19 | B23: =IF(Schließplan!W11="","",Schließplan!W11)
A24: =Schließplan!X10 -> T20 | B24: =IF(Schließplan!X11="","",Schließplan!X11)
